BEGIN:VCALENDAR
PRODID:-//AT Content Types//AT Event//EN
VERSION:1.0
BEGIN:VEVENT
DTSTART:20200101T050000Z
DTEND:20200131T050000Z
DCREATED:20191220T222041Z
UID:ATEvent-b6490ee13eb94ca494793cacbf6d43f5
SEQUENCE:0
LAST-MODIFIED:20200829T132400Z
SUMMARY:2020 Concept2 January Revolutions Challenge
DESCRIPTION:January Revolutions aims to help you kick-start your year.
  You choose which goal motivates you. Whether you have an indoor rower
 \, a SkiErg or a BikeErg\, we hope you'll join us in starting the New 
 Year with a bang!country).
LOCATION:Virtual
PRIORITY:3
TRANSP:0
END:VEVENT
END:VCALENDAR
